BEGIN:VCALENDAR
VERSION:2.0
PRODID:-//Contact Community Services - ECPv6.1.3//NONSGML v1.0//EN
CALSCALE:GREGORIAN
METHOD:PUBLISH
X-ORIGINAL-URL:https://www.contactcommunityservices.ca
X-WR-CALDESC:Events for Contact Community Services
REFRESH-INTERVAL;VALUE=DURATION:PT1H
X-Robots-Tag:noindex
X-PUBLISHED-TTL:PT1H
BEGIN:VTIMEZONE
TZID:America/Toronto
BEGIN:DAYLIGHT
TZOFFSETFROM:-0500
TZOFFSETTO:-0400
TZNAME:EDT
DTSTART:20230312T070000
END:DAYLIGHT
BEGIN:STANDARD
TZOFFSETFROM:-0400
TZOFFSETTO:-0500
TZNAME:EST
DTSTART:20231105T060000
END:STANDARD
END:VTIMEZONE
BEGIN:VEVENT
DTSTART;TZID=America/Toronto:20230916T100000
DTEND;TZID=America/Toronto:20230916T150000
DTSTAMP:20260421T131104
CREATED:20230707T193825Z
LAST-MODIFIED:20230707T194207Z
UID:3360-1694858400-1694876400@www.contactcommunityservices.ca
SUMMARY:The Grand Parade
DESCRIPTION:Join us on Saturday September 16th for The Grand Parade!  This is a national event\, held in our own backyard\, in support of seniors in need in our community.  Gather your friends\, family and co-workers\, register a Team and walk with us!\nAll funds raised go directly back into your community to assist seniors in need when they need us most.\nTwo event locations!\nBanting Memorial High School Track – 203 Victoria Street East\, Alliston\nBradford District High School Track – 70 Professor Day Drive\, Bradford \nAlliston (Contact Community Services) – The Grand Parade 2023 \n 
URL:https://www.contactcommunityservices.ca/event/the-grand-parade/
LOCATION:Banting Memorial High School\, 203 Victoria Street East\, Alliston\, Ontario\, L9R 1G5\, Canada
CATEGORIES:General CONTACT Events
ORGANIZER;CN="CONTACT%20Community%20Services":MAILTO:brenda@contactcommunityservices.ca
END:VEVENT
BEGIN:VEVENT
DTSTART;TZID=America/Toronto:20230427T140000
DTEND;TZID=America/Toronto:20230427T160000
DTSTAMP:20260421T131104
CREATED:20230421T193947Z
LAST-MODIFIED:20230421T193947Z
UID:3212-1682604000-1682611200@www.contactcommunityservices.ca
SUMMARY:Grand Sing-a-Long!
DESCRIPTION:Join us on Thursday\, April 27th for our Grand Sing-a-Long\, featuring the musical talents of local band ‘Just the Two of Us.’\nEnjoy an afternoon of song and dance to your favourite hits from years the 50’s to today.\nRegistration is free! \n \n 
URL:https://www.contactcommunityservices.ca/event/grand-sing-a-long/
LOCATION:Aspira Kingsmere Retirement Living\, 287 King Street South\, Alliston\, Ontario\, L9R 0C4\, Canada
CATEGORIES:General CONTACT Events,Seniors Events
ORGANIZER;CN="CONTACT%20Community%20Services":MAILTO:brenda@contactcommunityservices.ca
END:VEVENT
END:VCALENDAR