BEGIN:VCALENDAR
VERSION:2.0
PRODID:-//Contact Community Services - ECPv6.1.3//NONSGML v1.0//EN
CALSCALE:GREGORIAN
METHOD:PUBLISH
X-WR-CALNAME:Contact Community Services
X-ORIGINAL-URL:https://www.contactcommunityservices.ca
X-WR-CALDESC:Events for Contact Community Services
REFRESH-INTERVAL;VALUE=DURATION:PT1H
X-Robots-Tag:noindex
X-PUBLISHED-TTL:PT1H
BEGIN:VTIMEZONE
TZID:America/Toronto
BEGIN:DAYLIGHT
TZOFFSETFROM:-0500
TZOFFSETTO:-0400
TZNAME:EDT
DTSTART:20240310T070000
END:DAYLIGHT
BEGIN:STANDARD
TZOFFSETFROM:-0400
TZOFFSETTO:-0500
TZNAME:EST
DTSTART:20241103T060000
END:STANDARD
END:VTIMEZONE
BEGIN:VEVENT
DTSTART;TZID=America/Toronto:20240214T143000
DTEND;TZID=America/Toronto:20240214T153000
DTSTAMP:20260421T152700
CREATED:20230405T204651Z
LAST-MODIFIED:20240130T193149Z
UID:3009-1707921000-1707924600@www.contactcommunityservices.ca
SUMMARY:Newcomer Welcome Session (Virtual)
DESCRIPTION:
URL:https://www.contactcommunityservices.ca/event/newcomer-welcome-session-virtual-3/
CATEGORIES:Employment Workshops & Events
END:VEVENT
END:VCALENDAR