BEGIN:VCALENDAR
VERSION:2.0
PRODID:-//Contact Community Services - ECPv6.1.3//NONSGML v1.0//EN
CALSCALE:GREGORIAN
METHOD:PUBLISH
X-WR-CALNAME:Contact Community Services
X-ORIGINAL-URL:https://www.contactcommunityservices.ca
X-WR-CALDESC:Events for Contact Community Services
REFRESH-INTERVAL;VALUE=DURATION:PT1H
X-Robots-Tag:noindex
X-PUBLISHED-TTL:PT1H
BEGIN:VTIMEZONE
TZID:America/Toronto
BEGIN:DAYLIGHT
TZOFFSETFROM:-0500
TZOFFSETTO:-0400
TZNAME:EDT
DTSTART:20250309T070000
END:DAYLIGHT
BEGIN:STANDARD
TZOFFSETFROM:-0400
TZOFFSETTO:-0500
TZNAME:EST
DTSTART:20251102T060000
END:STANDARD
END:VTIMEZONE
BEGIN:VEVENT
DTSTART;TZID=America/Toronto:20250130T140000
DTEND;TZID=America/Toronto:20250130T160000
DTSTAMP:20260421T100317
CREATED:20250109T191710Z
LAST-MODIFIED:20250114T213100Z
UID:4189-1738245600-1738252800@www.contactcommunityservices.ca
SUMMARY:Mega Job Fair
DESCRIPTION:
URL:https://www.contactcommunityservices.ca/event/mega-job-fair/
LOCATION:Bradford West Gwillimbury Public Library ZIMA ROOM\, 425 Holland Street West\, Bradford\, Canada
CATEGORIES:Employment Workshops & Events
ORGANIZER;CN="CONTACT%20Community%20Services":MAILTO:brenda@contactcommunityservices.ca
END:VEVENT
END:VCALENDAR