BEGIN:VCALENDAR
VERSION:2.0
PRODID:-//Contact Community Services - ECPv6.1.3//NONSGML v1.0//EN
CALSCALE:GREGORIAN
METHOD:PUBLISH
X-WR-CALNAME:Contact Community Services
X-ORIGINAL-URL:https://www.contactcommunityservices.ca
X-WR-CALDESC:Events for Contact Community Services
REFRESH-INTERVAL;VALUE=DURATION:PT1H
X-Robots-Tag:noindex
X-PUBLISHED-TTL:PT1H
BEGIN:VTIMEZONE
TZID:America/Toronto
BEGIN:DAYLIGHT
TZOFFSETFROM:-0500
TZOFFSETTO:-0400
TZNAME:EDT
DTSTART:20230312T070000
END:DAYLIGHT
BEGIN:STANDARD
TZOFFSETFROM:-0400
TZOFFSETTO:-0500
TZNAME:EST
DTSTART:20231105T060000
END:STANDARD
END:VTIMEZONE
BEGIN:VEVENT
DTSTART;TZID=America/Toronto:20231012T140000
DTEND;TZID=America/Toronto:20231012T160000
DTSTAMP:20260421T071047
CREATED:20230801T154030Z
LAST-MODIFIED:20231002T151734Z
UID:3419-1697119200-1697126400@www.contactcommunityservices.ca
SUMMARY:Health Care Job Fair (online)
DESCRIPTION:
URL:https://www.contactcommunityservices.ca/event/health-care-job-fair-online/
CATEGORIES:Employment Workshops & Events
END:VEVENT
END:VCALENDAR