BEGIN:VCALENDAR
VERSION:2.0
PRODID:-//Contact Community Services - ECPv6.1.3//NONSGML v1.0//EN
CALSCALE:GREGORIAN
METHOD:PUBLISH
X-WR-CALNAME:Contact Community Services
X-ORIGINAL-URL:https://www.contactcommunityservices.ca
X-WR-CALDESC:Events for Contact Community Services
REFRESH-INTERVAL;VALUE=DURATION:PT1H
X-Robots-Tag:noindex
X-PUBLISHED-TTL:PT1H
BEGIN:VTIMEZONE
TZID:America/Toronto
BEGIN:DAYLIGHT
TZOFFSETFROM:-0500
TZOFFSETTO:-0400
TZNAME:EDT
DTSTART:20230312T070000
END:DAYLIGHT
BEGIN:STANDARD
TZOFFSETFROM:-0400
TZOFFSETTO:-0500
TZNAME:EST
DTSTART:20231105T060000
END:STANDARD
END:VTIMEZONE
BEGIN:VEVENT
DTSTART;TZID=America/Toronto:20231113T130000
DTEND;TZID=America/Toronto:20231113T140000
DTSTAMP:20260421T100138
CREATED:20231107T153123Z
LAST-MODIFIED:20231110T142306Z
UID:3619-1699880400-1699884000@www.contactcommunityservices.ca
SUMMARY:FREE SENIORS PROGRAM - STOP THE SCAM (Essa Library)
DESCRIPTION:Join us for a seminar presented by the Nottawasaga OPP\, who will provide information on current scams and how to avoid becoming victimized. \nTopics include: Fraud Why Seniors?\, Fraud Statistics\, Top 10 Frauds – Dollar Value\, Investment Scam\, Romance Scam\, Service Scam\, Health & Medical\nScams\, Identity Theft\, Internet Scams\, Money Transfer Request Scams\, Charity Scams\, Mobile Phone Scams\, Emergency Scams\, Email & Text Message Fraud\,\nOnline Fraud\, Telephone Fraud\, Artificial Intelligence\, Social Network Frauds\, Mail or In-Person Frauds and How to Report a Scam.
URL:https://www.contactcommunityservices.ca/event/free-seniors-program-stop-the-scam-essa-library/
LOCATION:Essa Library\, 8505 County Rd 10\, Angus\, Ontario\, Canada
END:VEVENT
END:VCALENDAR