BEGIN:VCALENDAR
VERSION:2.0
PRODID:-//Contact Community Services - ECPv6.1.3//NONSGML v1.0//EN
CALSCALE:GREGORIAN
METHOD:PUBLISH
X-WR-CALNAME:Contact Community Services
X-ORIGINAL-URL:https://www.contactcommunityservices.ca
X-WR-CALDESC:Events for Contact Community Services
REFRESH-INTERVAL;VALUE=DURATION:PT1H
X-Robots-Tag:noindex
X-PUBLISHED-TTL:PT1H
BEGIN:VTIMEZONE
TZID:America/Toronto
BEGIN:DAYLIGHT
TZOFFSETFROM:-0500
TZOFFSETTO:-0400
TZNAME:EDT
DTSTART:20230312T070000
END:DAYLIGHT
BEGIN:STANDARD
TZOFFSETFROM:-0400
TZOFFSETTO:-0500
TZNAME:EST
DTSTART:20231105T060000
END:STANDARD
END:VTIMEZONE
BEGIN:VEVENT
DTSTART;TZID=America/Toronto:20231107T130000
DTEND;TZID=America/Toronto:20231107T140000
DTSTAMP:20260421T081643
CREATED:20231031T173932Z
LAST-MODIFIED:20231031T173932Z
UID:3571-1699362000-1699365600@www.contactcommunityservices.ca
SUMMARY:FREE SENIORS' PROGRAM - Harmonica Lessons!
DESCRIPTION:Learning a new musical instrument like the harmonica can help improve brain function\, memory\, and coordination. It stimulates various parts of\nthe brain\, helping to keep the mind sharp and active. Regardless of age\, learning an instrument can be a wonderful journey of discovery\, personal\ngrowth\, and enjoyment. It also uses your creative\, can reduce stress and gets you out to socialize! There is a limited number of harmonicas available but you can bring your own! Come try it\, it’s going to be fun! \nRegister by emailing rachel@contactcommunityservices.ca indicating which date(s) you would like to attend\, or by calling 705-435-4900 ext 206
URL:https://www.contactcommunityservices.ca/event/free-seniors-program-harmonica-lessons/
LOCATION:Alliston Legion\, 111 Dufferin Street South\, Alliston\, Ontario\, Canada
CATEGORIES:Seniors Events
END:VEVENT
END:VCALENDAR