BEGIN:VCALENDAR
VERSION:2.0
PRODID:-//Contact Community Services - ECPv6.1.3//NONSGML v1.0//EN
CALSCALE:GREGORIAN
METHOD:PUBLISH
X-WR-CALNAME:Contact Community Services
X-ORIGINAL-URL:https://www.contactcommunityservices.ca
X-WR-CALDESC:Events for Contact Community Services
REFRESH-INTERVAL;VALUE=DURATION:PT1H
X-Robots-Tag:noindex
X-PUBLISHED-TTL:PT1H
BEGIN:VTIMEZONE
TZID:America/Toronto
BEGIN:DAYLIGHT
TZOFFSETFROM:-0500
TZOFFSETTO:-0400
TZNAME:EDT
DTSTART:20250309T070000
END:DAYLIGHT
BEGIN:STANDARD
TZOFFSETFROM:-0400
TZOFFSETTO:-0500
TZNAME:EST
DTSTART:20251102T060000
END:STANDARD
END:VTIMEZONE
BEGIN:VEVENT
DTSTART;TZID=America/Toronto:20250314T180000
DTEND;TZID=America/Toronto:20250314T210000
DTSTAMP:20260421T114150
CREATED:20250226T202039Z
LAST-MODIFIED:20250226T202039Z
UID:4235-1741975200-1741986000@www.contactcommunityservices.ca
SUMMARY:Comfort Inn & Suites Job Fair
DESCRIPTION:
URL:https://www.contactcommunityservices.ca/event/comfort-inn-suites-job-fair/
CATEGORIES:Employment Workshops & Events
END:VEVENT
END:VCALENDAR