BEGIN:VCALENDAR
VERSION:2.0
PRODID:-//Contact Community Services - ECPv6.1.3//NONSGML v1.0//EN
CALSCALE:GREGORIAN
METHOD:PUBLISH
X-WR-CALNAME:Contact Community Services
X-ORIGINAL-URL:https://www.contactcommunityservices.ca
X-WR-CALDESC:Events for Contact Community Services
REFRESH-INTERVAL;VALUE=DURATION:PT1H
X-Robots-Tag:noindex
X-PUBLISHED-TTL:PT1H
BEGIN:VTIMEZONE
TZID:America/Toronto
BEGIN:DAYLIGHT
TZOFFSETFROM:-0500
TZOFFSETTO:-0400
TZNAME:EDT
DTSTART:20230312T070000
END:DAYLIGHT
BEGIN:STANDARD
TZOFFSETFROM:-0400
TZOFFSETTO:-0500
TZNAME:EST
DTSTART:20231105T060000
END:STANDARD
END:VTIMEZONE
BEGIN:VEVENT
DTSTART;TZID=America/Toronto:20230801T090000
DTEND;TZID=America/Toronto:20230801T163000
DTSTAMP:20260421T070549
CREATED:20230801T164647Z
LAST-MODIFIED:20230801T164647Z
UID:3435-1690880400-1690907400@www.contactcommunityservices.ca
SUMMARY:Canada Civic Day
DESCRIPTION:
URL:https://www.contactcommunityservices.ca/event/canada-civic-day/
CATEGORIES:Employment Workshops & Events
END:VEVENT
END:VCALENDAR